BEGIN:VCALENDAR
VERSION:2.0
PRODID:-// - ECPv6.15.20//NONSGML v1.0//EN
CALSCALE:GREGORIAN
METHOD:PUBLISH
X-ORIGINAL-URL:https://limitlesshospitality.co.uk
X-WR-CALDESC:Events for 
REFRESH-INTERVAL;VALUE=DURATION:PT1H
X-Robots-Tag:noindex
X-PUBLISHED-TTL:PT1H
BEGIN:VTIMEZONE
TZID:UTC
BEGIN:STANDARD
TZOFFSETFROM:+0000
TZOFFSETTO:+0000
TZNAME:UTC
DTSTART:20250101T000000
END:STANDARD
END:VTIMEZONE
BEGIN:VEVENT
DTSTART;VALUE=DATE:20260524
DTEND;VALUE=DATE:20260525
DTSTAMP:20260424T220201
CREATED:20250708T151533Z
LAST-MODIFIED:20250708T151534Z
UID:3898-1779580800-1779667199@limitlesshospitality.co.uk
SUMMARY:Liverpool v Brentford
DESCRIPTION:Brodies Lounge\n• Hospitality match ticket in Level 1 of the Upper Tier of the Anfield Road Stand• Padded seats in Blocks AM1 to AM8\, Rows 5–13• Dedicated access from Brodies Sports Bar to your seats• Access to lounge 2.5 hours pre- and 1 hour post-match• Varied selection of complimentary street food (served up to kick-off)• Complimentary half-time drink (beer\, wine or soft drink)• Complimentary Match Programme• Liverpool FC legend in attendance every match day• Pre-match entertainment and in-lounge betting facilities• Pre and post-match cashless bar• E-Tickets supplied days in advance• Seats allocated together \nAnfield Beat Lounge L16\n• Official Hospitality Package• Block L16\, Main Stand Lower Tier• Direct access from lounge to seats• Complimentary half-time drink• Food options available to purchase• Licensed bar• LFC former player in attendance• Match Programme• Pre-match entertainment \nPremier Club Liverpool\n• Executive padded seats• Located in the Upper Sir Kenny Dalglish Stand• Access to Paisley and Shankly Suites• Lounge access: 3 hours pre- and 1 hour post-match• Hot and cold pre-match buffet• Half-time tea and coffee• Complimentary Matchday Programme \nFounders Lounge\n• Elevated seating behind the goal in Level 1 of the Anfield Road Upper Tier• Excellent pitch-side lounge views with dedicated access to seated area• Banquette and table seating with HD screens• Five-course dining experience – Champagne on arrival – Canapés served during the first hour – Half-time and full-time refreshments – Coffee and petits fours• Complimentary full bar• Match programme and gift• Parking included (1 space per 4 seats)• Former players in attendance at every home game
URL:https://limitlesshospitality.co.uk/event/liverpool-v-brentford/
LOCATION:Anfield\, Anfield Rd\, Anfield\, Liverpool\, L4 0TH\, United Kingdom
CATEGORIES:Football,Liverpool FC,Premier League,Sport
ATTACH;FMTTYPE=image/webp:https://limitlesshospitality.co.uk/wp-content/uploads/2024/09/limitless-hospitality-premier-league-liverpool.webp
END:VEVENT
BEGIN:VEVENT
DTSTART;VALUE=DATE:20260524
DTEND;VALUE=DATE:20260525
DTSTAMP:20260424T220201
CREATED:20250709T090333Z
LAST-MODIFIED:20250709T090333Z
UID:3951-1779580800-1779667199@limitlesshospitality.co.uk
SUMMARY:Arsenal v Burnley
DESCRIPTION:CANNON CLUB LEVEL PACKAGE\n• Premium padded seats in the middle ring of the stadium\n• Blocks 67 to 80\n• Excellent view of the pitch\n• Access to Club Level from 2.5 hours prior to kick-off and 1 hr post match\n• Pre-match Hospitality (food & drinks to redeem from club level menu in lounges and bars. Please present match ticket)\n• Complimentary match program collected at the stadium\n• Complimentary half-time drinks (beer\, wine\, soft drinks\, tea/coffee)\n• Complimentary museum visit (available on MATCH DAY)\n• Complimentary stadium tour (NON-MATCH days only)\n• £5.00 merchandise voucher\, redeemable in club shop and kiosks (please print ticket)\n• Occasional seating\n• Contactless payment bar\n• E-tickets (valid for stadium tour\, museum entry and merchandise £5.00 discount)\n• Betting facilities\n• Seats supplied together for individuals and groups\n• Families and children welcome
URL:https://limitlesshospitality.co.uk/event/arsenal-v-burnley/
LOCATION:Emirates Stadium\, Hornsey Rd\, London\, N7 7AJ\, United Kingdom
CATEGORIES:Arsenal,Football,Premier League,Sport
ATTACH;FMTTYPE=image/webp:https://limitlesshospitality.co.uk/wp-content/uploads/2024/09/limitless-hospitality-premier-league-arsenal.webp
END:VEVENT
BEGIN:VEVENT
DTSTART;VALUE=DATE:20260524
DTEND;VALUE=DATE:20260525
DTSTAMP:20260424T220201
CREATED:20250709T121734Z
LAST-MODIFIED:20250709T121734Z
UID:3986-1779580800-1779667199@limitlesshospitality.co.uk
SUMMARY:Manchester City v Aston Villa
DESCRIPTION:93:20 Lounge\n• Official Manchester City FC Premium Match Ticket product\n• Premium padded seats\, long side/curve location\n• Block 209/210/222 or similar\, level 2\n• Opens 2.5 hours prior to kick off\n• Access to stadium lounge\n• Contactless bars and food offerings to purchase\n• Match program included\n• Ticket package includes vouchers\, to be used for the following activities in Manchester:\n• Etihad Stadium Tour\n• National Football Museum\n• Uber Rides Voucher (value of £20 per person)\n• Sightseeing Manchester Bus Tour \nThe Citizens Hospitality\n• Official Manchester City match day hospitality product\n• Halfway line seats\, level 2 seating\, block 205\n• Lounge opens three hours prior to kick off\, until one hour after final whistle\n• Pre-match three course buffet served in Citizens lounge\n• Complimentary beer\, wines\, soft drinks\n• Official match program included\n• e/tickets days in advance\n• Seats allocated together \nThe Tunnel Club Premier (lower level) offers the finest hospitality experience at the Etihad Stadium and arguably in the Premier League.\nThe experience will bring you closer to the action than anywhere else. Listen to the exclusive Performance Analysts\, watch the team line-up in the tunnel pre-match\, enjoy some of the most amazing dining and hospitality\, including sampling fine wines with the Club Sommelier\, and enjoy the action from heated seats behind the dugouts. At full time enjoy the post-match interviews from the comfort of the suite.\nDue to our table configurations within the Tunnel Club Premier\, bookings with odd numbers of guests are not permitted.
URL:https://limitlesshospitality.co.uk/event/manchester-city-v-aston-villa/
LOCATION:Etihad Stadium\, Etihad Campus\, Manchester\, M11 3FF\, United Kingdom
CATEGORIES:Football,Manchester City,Premier League,Sport
ATTACH;FMTTYPE=image/webp:https://limitlesshospitality.co.uk/wp-content/uploads/2024/09/Limitless-Hospitality-Sport-Events.webp
END:VEVENT
BEGIN:VEVENT
DTSTART;VALUE=DATE:20260524
DTEND;VALUE=DATE:20260525
DTSTAMP:20260424T220201
CREATED:20250709T131215Z
LAST-MODIFIED:20250709T131215Z
UID:4023-1779580800-1779667199@limitlesshospitality.co.uk
SUMMARY:Fulham v Newcastle United
DESCRIPTION:New Riverside Stand Gold\n• Fulham FC Official Match Ticket\n• Block R11\, mid rows\n• Designated by the Club as one of the highest categories of general admission seating in the Riverside Stand\n• Food and drink available to purchase on concourse\n• Families\, children and group bookings welcome\n• e/ticket supplied days in advance\n• Seats allocated together\n• Sales to Non-UK customers only\n• Home section\, no away colours \nThe Dugout\n• Immerse yourself in the electric matchday atmosphere at The Dugout\, located below ground level\, where fans can enjoy a vibrant and social setting throughout the game.\n• Seats in the Lower Riverside\, Block R05 or similar\, right behind the coaching staff of both teams!\n• Pre-game pitchside access to watch the teams warming up ahead of kick-off\n• Lounge opens 3 hours pre-match and remains open after the game till late\n• Complimentary Bowl food/small plates\n• Complimentary beer\, wine\, soft drinks\n• On-site entertainment\n• Families\, children\, and group bookings welcome\n• e/ticket supplied days in advance\n• Seats allocated together
URL:https://limitlesshospitality.co.uk/event/fulham-v-newcastle-united/
LOCATION:Craven Cottage\, Stevenage Rd\, London\, SW6 6HH\, United Kingdom
CATEGORIES:Football,Fulham,Premier League,Sport
ATTACH;FMTTYPE=image/webp:https://limitlesshospitality.co.uk/wp-content/uploads/2024/09/Limitless-Hospitality-Sport-Events.webp
END:VEVENT
BEGIN:VEVENT
DTSTART;VALUE=DATE:20260524
DTEND;VALUE=DATE:20260525
DTSTAMP:20260424T220201
CREATED:20250710T103509Z
LAST-MODIFIED:20250710T103509Z
UID:4192-1779580800-1779667199@limitlesshospitality.co.uk
SUMMARY:West Ham United v Leeds United
DESCRIPTION:West Ham United Hospitality\nDue to restrictions\, we are unable to publicly advertise West Ham hospitality packages.If you’re interested in attending a West Ham home fixture\, please submit an enquiry through the form\, and a member of our team will get back to you with available options.
URL:https://limitlesshospitality.co.uk/event/west-ham-united-v-leeds-united/
LOCATION:London Stadium\, Queen Elizabeth Olympic Park\, London\, United Kingdom\, E20 2ST\, United Kingdom
CATEGORIES:Football,Premier League,Sport,West Ham
ATTACH;FMTTYPE=image/webp:https://limitlesshospitality.co.uk/wp-content/uploads/2024/09/Limitless-Hospitality-Sport-Events.webp
END:VEVENT
BEGIN:VEVENT
DTSTART;VALUE=DATE:20260524
DTEND;VALUE=DATE:20260525
DTSTAMP:20260424T220201
CREATED:20250716T161803Z
LAST-MODIFIED:20250716T161803Z
UID:4519-1779580800-1779667199@limitlesshospitality.co.uk
SUMMARY:Crystal Palace v Arsenal
DESCRIPTION:Executive Hospitality Box\n• Box 12/13\, located in White Horse Lane Stand\, above the goal\, superb view of the pitch\n• Official Crystal Palace FC match day hospitality product\n• Pre–match two course meal served in the box\n• Complimentary beers\, house wine and soft drinks\n• Complimentary match program\n• Opens 2.5 hours prior to kick \, until one hour after final whistle\n• No dress code\, away colours not permitted\n• Children and family welcome\n• e/ticket supplied days in advance\, seats allocated together \nDirectors Box Palace\n• Access 2.5 hours before kick-off\n• VIP seats in the centre of the stadium\n• Access to paid bar in Directors Lounge
URL:https://limitlesshospitality.co.uk/event/crystal-palace-v-arsenal/
LOCATION:Selhurst Park\, Holmesdale Road\, London\, SE25 6PU\, United Kingdom
CATEGORIES:Crystal Palace,Football,Premier League,Sport
ATTACH;FMTTYPE=image/webp:https://limitlesshospitality.co.uk/wp-content/uploads/2024/09/Limitless-Hospitality-Sport-Events.webp
END:VEVENT
END:VCALENDAR