BEGIN:VCALENDAR
VERSION:2.0
PRODID:-// - ECPv6.15.20//NONSGML v1.0//EN
CALSCALE:GREGORIAN
METHOD:PUBLISH
X-ORIGINAL-URL:https://limitlesshospitality.co.uk
X-WR-CALDESC:Events for 
REFRESH-INTERVAL;VALUE=DURATION:PT1H
X-Robots-Tag:noindex
X-PUBLISHED-TTL:PT1H
BEGIN:VTIMEZONE
TZID:UTC
BEGIN:STANDARD
TZOFFSETFROM:+0000
TZOFFSETTO:+0000
TZNAME:UTC
DTSTART:20250101T000000
END:STANDARD
END:VTIMEZONE
BEGIN:VEVENT
DTSTART;VALUE=DATE:20260425
DTEND;VALUE=DATE:20260426
DTSTAMP:20260424T141152
CREATED:20250710T103428Z
LAST-MODIFIED:20250710T103428Z
UID:4190-1777075200-1777161599@limitlesshospitality.co.uk
SUMMARY:West Ham United v Everton
DESCRIPTION:West Ham United Hospitality\nDue to restrictions\, we are unable to publicly advertise West Ham hospitality packages.If you’re interested in attending a West Ham home fixture\, please submit an enquiry through the form\, and a member of our team will get back to you with available options.
URL:https://limitlesshospitality.co.uk/event/west-ham-united-v-everton/
LOCATION:London Stadium\, Queen Elizabeth Olympic Park\, London\, United Kingdom\, E20 2ST\, United Kingdom
CATEGORIES:Football,Premier League,Sport,West Ham
ATTACH;FMTTYPE=image/webp:https://limitlesshospitality.co.uk/wp-content/uploads/2024/09/Limitless-Hospitality-Sport-Events.webp
END:VEVENT
END:VCALENDAR