BEGIN:VCALENDAR
VERSION:2.0
PRODID:-// - ECPv6.15.20//NONSGML v1.0//EN
CALSCALE:GREGORIAN
METHOD:PUBLISH
X-ORIGINAL-URL:https://limitlesshospitality.co.uk
X-WR-CALDESC:Events for 
REFRESH-INTERVAL;VALUE=DURATION:PT1H
X-Robots-Tag:noindex
X-PUBLISHED-TTL:PT1H
BEGIN:VTIMEZONE
TZID:UTC
BEGIN:STANDARD
TZOFFSETFROM:+0000
TZOFFSETTO:+0000
TZNAME:UTC
DTSTART:20250101T000000
END:STANDARD
END:VTIMEZONE
BEGIN:VEVENT
DTSTART;VALUE=DATE:20260502
DTEND;VALUE=DATE:20260503
DTSTAMP:20260425T161112
CREATED:20250711T092856Z
LAST-MODIFIED:20250711T092856Z
UID:4272-1777680000-1777766399@limitlesshospitality.co.uk
SUMMARY:Manchester United v Liverpool
DESCRIPTION:Kit Room Hospitality• The Kit Room located in the North West corner• Padded seating in Blocks NW3435 & NW3436\, North West Quadrant Tier 2• Overlooking famous Stretford End supporters• Access to KIT ROOM lounge from 3 hours prior to kick-off\, until 1 hour after final whistle• Complimentary hot food options served pre-match only• Contactless bar• Complimentary match programme\, on entry to the Kit Room• 10% Megastore Discount (redeemed by showing match ticket at the checkout in the Megastore)• Betting facilities• Executive stadium entrance for The Kit Room ticket holders• Smart Casual Dress Code: Strictly no away team colours/shirts\, offensive t-shirts\, tracksuits or shorts. This does not apply to children under 12. The Club has the right to refuse admission to any person wearing attire deemed inappropriate• Families and children welcome \nVictoria Warehouse• Seats in North Stand Blocks N1404–N1405• Access 3 hours pre-match & 1 hour post-match• Casual dining – a range of food stations offering a variety of meal options• Complimentary bottled beer\, house wine\, prosecco\, single spirit & mixer\, soft drinks\, tea & coffee (served pre & post-match)• MUTV or pre-game screening• Official Matchday programme for each guest• 10% Megastore discount• Tickets delivered via e-mail as PDFs \nTicketPlus• Official Matchday Manchester United product• Padded seating in the North West Quadrant Tier 2\, Blocks NW3429\, NW3431\, NW3434• Complimentary meal deal (1 x hot food item\, 1 x drink & 1 x snack) collect by showing your match ticket at a kiosk on the North West Quadrant concourse. Additional purchases by card only• Complimentary Matchday programme\, collect by showing your match ticket at a kiosk on the North West Quadrant concourse• Complimentary Museum entry on a NON-MATCHDAY (redeemable by showing your match ticket at the North Stand reception. Can be upgraded to a full stadium tour for an extra cost on the day\, subject to availability)• 10% Megastore Discount (redeemed by showing match ticket at the checkout in the Megastore)• Strictly no away team colours or shirts \nThe Evolution Suite• The Evolution Suite offers magnificent panoramic views of the pitch\, as well as the Quays\, and is adorned with details from Manchester United’s illustrious past• The atmosphere is matched beautifully by the standards of service\, food and wine on offer and a unique thrill as the anticipation before a big game mounts• The restaurant is split over two levels\, and we’re able to offer exclusive window tables overlooking the pitch\, on the lower level
URL:https://limitlesshospitality.co.uk/event/manchester-united-v-liverpool/
LOCATION:Old Trafford\, Sir Matt Busby Way\, Old Trafford\, Stretford\, Manchester\, M16 0RA\, United Kingdom
CATEGORIES:Football,Manchester United,Premier League,Sport
ATTACH;FMTTYPE=image/webp:https://limitlesshospitality.co.uk/wp-content/uploads/2024/09/limitless-hospitality-premier-league-manchester-united.webp
END:VEVENT
END:VCALENDAR