BEGIN:VCALENDAR
VERSION:2.0
PRODID:-// - ECPv6.15.20//NONSGML v1.0//EN
CALSCALE:GREGORIAN
METHOD:PUBLISH
X-ORIGINAL-URL:https://limitlesshospitality.co.uk
X-WR-CALDESC:Events for 
REFRESH-INTERVAL;VALUE=DURATION:PT1H
X-Robots-Tag:noindex
X-PUBLISHED-TTL:PT1H
BEGIN:VTIMEZONE
TZID:UTC
BEGIN:STANDARD
TZOFFSETFROM:+0000
TZOFFSETTO:+0000
TZNAME:UTC
DTSTART:20250101T000000
END:STANDARD
END:VTIMEZONE
BEGIN:VEVENT
DTSTART;VALUE=DATE:20260502
DTEND;VALUE=DATE:20260503
DTSTAMP:20260424T154542
CREATED:20250709T133556Z
LAST-MODIFIED:20250709T133556Z
UID:4066-1777680000-1777766399@limitlesshospitality.co.uk
SUMMARY:Everton v Manchester City
DESCRIPTION:Trinity Place Bar – What’s Included\n• Access to the Trinity Place Bar up to 3 hours before kick-off and 1 hour after the final whistle• Premium padded seating in the East Stand Lower\, Block 113\, close to the halfway line• Seating directly outside the bar• One complimentary food token to be redeemed pre-match• Complimentary bar including selected beer\, wine and soft drinks• Paid bar experience for up to 1 hour post-match• Complimentary matchday programme• Contemporary\, football-focused social bar• Live entertainment within the bar \nBeyond – Tunnel Club – What’s Included\n• Access to the Beyond Tunnel Club up to 3 hours before kick-off and 1 hour after the final whistle• Premium padded seating directly behind the home dugout• Walk-through access to seats• Three-course à la carte modern British menu\, served pre-match• Complimentary bar including selected beer\, wine and soft drinks• Complimentary matchday programme• Large TV screens in the restaurant• E-tickets supplied approximately 4 days in advance
URL:https://limitlesshospitality.co.uk/event/everton-v-manchester-city/
LOCATION:The Hill Dickinson Stadium\, Bramley-Moore Dock\, Liverpool\, Liverpool\, United Kingdom\, L5 9SR\, United Kingdom
CATEGORIES:Everton,Football,Premier League,Sport
ATTACH;FMTTYPE=image/webp:https://limitlesshospitality.co.uk/wp-content/uploads/2024/09/Limitless-Hospitality-Sport-Events.webp
END:VEVENT
END:VCALENDAR