BEGIN:VCALENDAR
VERSION:2.0
PRODID:-// - ECPv6.15.20//NONSGML v1.0//EN
CALSCALE:GREGORIAN
METHOD:PUBLISH
X-ORIGINAL-URL:https://limitlesshospitality.co.uk
X-WR-CALDESC:Events for 
REFRESH-INTERVAL;VALUE=DURATION:PT1H
X-Robots-Tag:noindex
X-PUBLISHED-TTL:PT1H
BEGIN:VTIMEZONE
TZID:UTC
BEGIN:STANDARD
TZOFFSETFROM:+0000
TZOFFSETTO:+0000
TZNAME:UTC
DTSTART:20250101T000000
END:STANDARD
END:VTIMEZONE
BEGIN:VEVENT
DTSTART;VALUE=DATE:20260509
DTEND;VALUE=DATE:20260510
DTSTAMP:20260424T154246
CREATED:20250716T161745Z
LAST-MODIFIED:20250716T161745Z
UID:4518-1778284800-1778371199@limitlesshospitality.co.uk
SUMMARY:Crystal Palace v Everton
DESCRIPTION:Executive Hospitality Box\n• Box 12/13\, located in White Horse Lane Stand\, above the goal\, superb view of the pitch\n• Official Crystal Palace FC match day hospitality product\n• Pre–match two course meal served in the box\n• Complimentary beers\, house wine and soft drinks\n• Complimentary match program\n• Opens 2.5 hours prior to kick \, until one hour after final whistle\n• No dress code\, away colours not permitted\n• Children and family welcome\n• e/ticket supplied days in advance\, seats allocated together \nDirectors Box Palace\n• Access 2.5 hours before kick-off\n• VIP seats in the centre of the stadium\n• Access to paid bar in Directors Lounge
URL:https://limitlesshospitality.co.uk/event/crystal-palace-v-everton/
LOCATION:Selhurst Park\, Holmesdale Road\, London\, SE25 6PU\, United Kingdom
CATEGORIES:Crystal Palace,Football,Premier League,Sport
ATTACH;FMTTYPE=image/webp:https://limitlesshospitality.co.uk/wp-content/uploads/2024/09/Limitless-Hospitality-Sport-Events.webp
END:VEVENT
END:VCALENDAR