BEGIN:VCALENDAR
VERSION:2.0
PRODID:-// - ECPv6.15.20//NONSGML v1.0//EN
CALSCALE:GREGORIAN
METHOD:PUBLISH
X-ORIGINAL-URL:https://limitlesshospitality.co.uk
X-WR-CALDESC:Events for 
REFRESH-INTERVAL;VALUE=DURATION:PT1H
X-Robots-Tag:noindex
X-PUBLISHED-TTL:PT1H
BEGIN:VTIMEZONE
TZID:UTC
BEGIN:STANDARD
TZOFFSETFROM:+0000
TZOFFSETTO:+0000
TZNAME:UTC
DTSTART:20250101T000000
END:STANDARD
END:VTIMEZONE
BEGIN:VEVENT
DTSTART;VALUE=DATE:20260411
DTEND;VALUE=DATE:20260412
DTSTAMP:20260424T154058
CREATED:20250710T090732Z
LAST-MODIFIED:20250710T090926Z
UID:4114-1775865600-1775951999@limitlesshospitality.co.uk
SUMMARY:Celtic v St Mirren
DESCRIPTION:Club 67 Lounge• Padded Seats in West Stand\, Block 139• Access to Kerrydale Suite 2 hours pre and 1 hour post-match• Complimentary Match Programme• Half-time tea\, coffee and snacks• Complimentary hot food voucher• Live entertainment• Home section• Seats together for all bookings• Children and families welcome• No dress code (opposition colours/shirts not allowed)• Tickets to be collected from the Hospitality Box Office up to 3.5 hours pre-match• Tickets located in Home supporters areas. Any guests seen to be openly supporting the opposition are liable to be refused entry or ejected from the stadium without compensation
URL:https://limitlesshospitality.co.uk/event/4114/
LOCATION:Celtic Park\, Janefield St\, Glasgow\, G40 3RE\, United Kingdom
CATEGORIES:Celtic,Premier League,Scottish Premiership,Sport
ATTACH;FMTTYPE=image/webp:https://limitlesshospitality.co.uk/wp-content/uploads/2024/09/Limitless-Hospitality-Sport-Events.webp
END:VEVENT
END:VCALENDAR